BEGIN:VCALENDAR
PRODID:-//github.com/rianjs/ical.net//NONSGML ical.net 4.0//EN
VERSION:2.0
BEGIN:VEVENT
DESCRIPTION:2011 Annual Meeting by the American Academy of Neurology\n\nTi
 tle: Mild Cognitive Impairment: Implications for Clinicians\n\nAccess URL
 : https://www.aan.com/msa/Public/Events/GetEventURL/2108\n\nLearn More Ab
 out This Event: https://www.aan.com/msa/Public/Events/Details/2108
DTEND:20110415T083000
DTSTAMP:20260424T053921Z
DTSTART:20110415T063000
LOCATION:https://www.aan.com/msa/Public/Events/GetEventURL/2108
SEQUENCE:0
SUMMARY:AAN: Mild Cognitive Impairment: Implications for Clinicians
UID:50fd6d52-9d89-4f85-8b09-e1e2a073c4b7
END:VEVENT
END:VCALENDAR
