BEGIN:VCALENDAR
PRODID:-//github.com/rianjs/ical.net//NONSGML ical.net 4.0//EN
VERSION:2.0
BEGIN:VEVENT
DESCRIPTION:2011 Annual Meeting by the American Academy of Neurology\n\nTi
 tle: Psychogenic Movement Disorders\n\nAccess URL: https://www.aan.com/ms
 a/Public/Events/GetEventURL/2110\n\nLearn More About This Event: https://
 www.aan.com/msa/Public/Events/Details/2110
DTEND:20110415T083000
DTSTAMP:20260424T053953Z
DTSTART:20110415T063000
LOCATION:https://www.aan.com/msa/Public/Events/GetEventURL/2110
SEQUENCE:0
SUMMARY:AAN: Psychogenic Movement Disorders
UID:f71b3a2b-21da-4fcf-980e-9203cc47f722
END:VEVENT
END:VCALENDAR
