BEGIN:VCALENDAR
PRODID:-//github.com/rianjs/ical.net//NONSGML ical.net 4.0//EN
VERSION:2.0
BEGIN:VEVENT
DESCRIPTION:2011 Annual Meeting by the American Academy of Neurology\n\nTi
 tle: EEG In Children: Developmental Maturation\, Variants\, Epilepsy Synd
 romes\, and Identification of Surgical Candidates\n\nAccess URL: https://
 www.aan.com/msa/Public/Events/GetEventURL/2113\n\nLearn More About This E
 vent: https://www.aan.com/msa/Public/Events/Details/2113
DTEND:20110415T093000
DTSTAMP:20260424T053900Z
DTSTART:20110415T063000
LOCATION:https://www.aan.com/msa/Public/Events/GetEventURL/2113
SEQUENCE:0
SUMMARY:AAN: EEG In Children: Developmental Maturation\, Variants\, Epilep
 sy Syndromes\, and Identification of Surgical Candidates
UID:e0362f44-4057-4cf6-a35c-48db132f5705
END:VEVENT
END:VCALENDAR
