BEGIN:VCALENDAR
PRODID:-//github.com/rianjs/ical.net//NONSGML ical.net 4.0//EN
VERSION:2.0
BEGIN:VEVENT
DESCRIPTION:2011 Annual Meeting by the American Academy of Neurology\n\nTi
 tle: Structure Function Correlations in Behavioral Neurology\n\nAccess UR
 L: https://www.aan.com/msa/Public/Events/GetEventURL/2115\n\nLearn More A
 bout This Event: https://www.aan.com/msa/Public/Events/Details/2115
DTEND:20110415T120000
DTSTAMP:20260424T053956Z
DTSTART:20110415T080000
LOCATION:https://www.aan.com/msa/Public/Events/GetEventURL/2115
SEQUENCE:0
SUMMARY:AAN: Structure Function Correlations in Behavioral Neurology
UID:ffea67ce-83d6-4e91-aa5f-987a37aba37a
END:VEVENT
END:VCALENDAR
