BEGIN:VCALENDAR
PRODID:-//github.com/rianjs/ical.net//NONSGML ical.net 4.0//EN
VERSION:2.0
BEGIN:VEVENT
DESCRIPTION:2011 Annual Meeting by the American Academy of Neurology\n\nTi
 tle: Update on Multiple Sclerosis I: Basic Science\n\nAccess URL: https:/
 /www.aan.com/msa/Public/Events/GetEventURL/2117\n\nLearn More About This 
 Event: https://www.aan.com/msa/Public/Events/Details/2117
DTEND:20110415T120000
DTSTAMP:20260424T053901Z
DTSTART:20110415T080000
LOCATION:https://www.aan.com/msa/Public/Events/GetEventURL/2117
SEQUENCE:0
SUMMARY:AAN: Update on Multiple Sclerosis I: Basic Science
UID:6eddf9df-b80d-45ac-b0e9-d1c9d68a98ec
END:VEVENT
END:VCALENDAR
