BEGIN:VCALENDAR
PRODID:-//github.com/rianjs/ical.net//NONSGML ical.net 4.0//EN
VERSION:2.0
BEGIN:VEVENT
DESCRIPTION:2011 Annual Meeting by the American Academy of Neurology\n\nTi
 tle: The Neurological Implications of Terror and Violence\n\nAccess URL: 
 https://www.aan.com/msa/Public/Events/GetEventURL/2118\n\nLearn More Abou
 t This Event: https://www.aan.com/msa/Public/Events/Details/2118
DTEND:20120427T120000
DTSTAMP:20260424T054104Z
DTSTART:20120427T080000
LOCATION:https://www.aan.com/msa/Public/Events/GetEventURL/2118
SEQUENCE:0
SUMMARY:AAN: The Neurological Implications of Terror and Violence
UID:46561393-d4a9-44e2-8595-681e67d595e3
END:VEVENT
END:VCALENDAR
