BEGIN:VCALENDAR
PRODID:-//github.com/rianjs/ical.net//NONSGML ical.net 4.0//EN
VERSION:2.0
BEGIN:VEVENT
DESCRIPTION:2011 Annual Meeting by the American Academy of Neurology\n\nTi
 tle: Management of Spasticity\n\nAccess URL: https://www.aan.com/msa/Publ
 ic/Events/GetEventURL/2119\n\nLearn More About This Event: https://www.aa
 n.com/msa/Public/Events/Details/2119
DTEND:20120427T120000
DTSTAMP:20260424T054138Z
DTSTART:20120427T080000
LOCATION:https://www.aan.com/msa/Public/Events/GetEventURL/2119
SEQUENCE:0
SUMMARY:AAN: Management of Spasticity
UID:18c4c1f3-4a47-4a83-a7a4-20c83154b7f6
END:VEVENT
END:VCALENDAR
