BEGIN:VCALENDAR
PRODID:-//github.com/rianjs/ical.net//NONSGML ical.net 4.0//EN
VERSION:2.0
BEGIN:VEVENT
DESCRIPTION:2011 Annual Meeting by the American Academy of Neurology\n\nTi
 tle: Case Studies in Behavioral Neurology\n\nAccess URL: https://www.aan.
 com/msa/Public/Events/GetEventURL/2128\n\nLearn More About This Event: ht
 tps://www.aan.com/msa/Public/Events/Details/2128
DTEND:20110415T140000
DTSTAMP:20260424T053926Z
DTSTART:20110415T110000
LOCATION:https://www.aan.com/msa/Public/Events/GetEventURL/2128
SEQUENCE:0
SUMMARY:AAN: Case Studies in Behavioral Neurology
UID:265889c7-47f2-484c-9e0d-0481ed0323c4
END:VEVENT
END:VCALENDAR
