BEGIN:VCALENDAR
PRODID:-//github.com/rianjs/ical.net//NONSGML ical.net 4.0//EN
VERSION:2.0
BEGIN:VEVENT
DESCRIPTION:2011 Annual Meeting by the American Academy of Neurology\n\nTi
 tle: Update on Multiple Sclerosis II: Clinical\n\nAccess URL: https://www
 .aan.com/msa/Public/Events/GetEventURL/2133\n\nLearn More About This Even
 t: https://www.aan.com/msa/Public/Events/Details/2133
DTEND:20110415T170000
DTSTAMP:20260424T054000Z
DTSTART:20110415T130000
LOCATION:https://www.aan.com/msa/Public/Events/GetEventURL/2133
SEQUENCE:0
SUMMARY:AAN: Update on Multiple Sclerosis II: Clinical
UID:3e5e86aa-56bf-41e1-8042-c5881f81a173
END:VEVENT
END:VCALENDAR
