BEGIN:VCALENDAR
PRODID:-//github.com/rianjs/ical.net//NONSGML ical.net 4.0//EN
VERSION:2.0
BEGIN:VEVENT
DESCRIPTION:2011 Annual Meeting by the American Academy of Neurology\n\nTi
 tle: Controversial Issues in Neurologic Infections\n\nAccess URL: https:/
 /www.aan.com/msa/Public/Events/GetEventURL/2137\n\nLearn More About This 
 Event: https://www.aan.com/msa/Public/Events/Details/2137
DTEND:20130323T083000
DTSTAMP:20260424T054002Z
DTSTART:20130323T063000
LOCATION:https://www.aan.com/msa/Public/Events/GetEventURL/2137
SEQUENCE:0
SUMMARY:AAN: Controversial Issues in Neurologic Infections
UID:249af778-6fae-40d5-8df6-6aad78880307
END:VEVENT
END:VCALENDAR
