BEGIN:VCALENDAR
PRODID:-//github.com/rianjs/ical.net//NONSGML ical.net 4.0//EN
VERSION:2.0
BEGIN:VEVENT
DESCRIPTION:2011 Annual Meeting by the American Academy of Neurology\n\nTi
 tle: Hyperkinetic Movement Disorders: Diagnosis and Treatment\n\nAccess U
 RL: https://www.aan.com/msa/Public/Events/GetEventURL/2138\n\nLearn More 
 About This Event: https://www.aan.com/msa/Public/Events/Details/2138
DTEND:20120428T083000
DTSTAMP:20260424T054002Z
DTSTART:20120428T063000
LOCATION:https://www.aan.com/msa/Public/Events/GetEventURL/2138
SEQUENCE:0
SUMMARY:AAN: Hyperkinetic Movement Disorders: Diagnosis and Treatment
UID:7f391c2e-f623-4ff5-8ef9-fc97235d53e6
END:VEVENT
END:VCALENDAR
