BEGIN:VCALENDAR
PRODID:-//github.com/rianjs/ical.net//NONSGML ical.net 4.0//EN
VERSION:2.0
BEGIN:VEVENT
DESCRIPTION:2011 Annual Meeting by the American Academy of Neurology\n\nTi
 tle: Bells Palsy: Clinical Overview\, Differential Diagnosis\, and Update
  on Treatment\n\nAccess URL: https://www.aan.com/msa/Public/Events/GetEve
 ntURL/2140\n\nLearn More About This Event: https://www.aan.com/msa/Public
 /Events/Details/2140
DTEND:20120428T083000
DTSTAMP:20260424T053921Z
DTSTART:20120428T063000
LOCATION:https://www.aan.com/msa/Public/Events/GetEventURL/2140
SEQUENCE:0
SUMMARY:AAN: Bells Palsy: Clinical Overview\, Differential Diagnosis\, and
  Update on Treatment
UID:2ebbeea4-d4e1-409a-9c26-8f038641cf45
END:VEVENT
END:VCALENDAR
