BEGIN:VCALENDAR
PRODID:-//github.com/rianjs/ical.net//NONSGML ical.net 4.0//EN
VERSION:2.0
BEGIN:VEVENT
DESCRIPTION:2011 Annual Meeting by the American Academy of Neurology\n\nTi
 tle: Deep Brain Stimulation Management\n\nAccess URL: https://www.aan.com
 /msa/Public/Events/GetEventURL/2142\n\nLearn More About This Event: https
 ://www.aan.com/msa/Public/Events/Details/2142
DTEND:20110416T130000
DTSTAMP:20260424T053921Z
DTSTART:20110416T090000
LOCATION:https://www.aan.com/msa/Public/Events/GetEventURL/2142
SEQUENCE:0
SUMMARY:AAN: Deep Brain Stimulation Management
UID:929283fa-8874-4fd1-a25f-b320082a36dc
END:VEVENT
END:VCALENDAR
