BEGIN:VCALENDAR
PRODID:-//github.com/rianjs/ical.net//NONSGML ical.net 4.0//EN
VERSION:2.0
BEGIN:VEVENT
DESCRIPTION:2011 Annual Meeting by the American Academy of Neurology\n\nTi
 tle: Neuromuscular Junction Disorders\n\nAccess URL: https://www.aan.com/
 msa/Public/Events/GetEventURL/2143\n\nLearn More About This Event: https:
 //www.aan.com/msa/Public/Events/Details/2143
DTEND:20110416T130000
DTSTAMP:20260424T053900Z
DTSTART:20110416T090000
LOCATION:https://www.aan.com/msa/Public/Events/GetEventURL/2143
SEQUENCE:0
SUMMARY:AAN: Neuromuscular Junction Disorders
UID:2b540aa9-97d6-46fe-bd39-ac062e67a345
END:VEVENT
END:VCALENDAR
