BEGIN:VCALENDAR
PRODID:-//github.com/rianjs/ical.net//NONSGML ical.net 4.0//EN
VERSION:2.0
BEGIN:VEVENT
DESCRIPTION:2011 Annual Meeting by the American Academy of Neurology\n\nTi
 tle: Non-Alzheimer's Dementia\n\nAccess URL: https://www.aan.com/msa/Publ
 ic/Events/GetEventURL/2145\n\nLearn More About This Event: https://www.aa
 n.com/msa/Public/Events/Details/2145
DTEND:20110416T130000
DTSTAMP:20260424T053924Z
DTSTART:20110416T090000
LOCATION:https://www.aan.com/msa/Public/Events/GetEventURL/2145
SEQUENCE:0
SUMMARY:AAN: Non-Alzheimer's Dementia
UID:a618f84a-8c45-4a14-bd6b-08322242c3c4
END:VEVENT
END:VCALENDAR
