BEGIN:VCALENDAR
PRODID:-//github.com/rianjs/ical.net//NONSGML ical.net 4.0//EN
VERSION:2.0
BEGIN:VEVENT
DESCRIPTION:2011 Annual Meeting by the American Academy of Neurology\n\nTi
 tle: How to Analyze Spells by Video-EEG\n\nAccess URL: https://www.aan.co
 m/msa/Public/Events/GetEventURL/2146\n\nLearn More About This Event: http
 s://www.aan.com/msa/Public/Events/Details/2146
DTEND:20110416T130000
DTSTAMP:20260424T053927Z
DTSTART:20110416T090000
LOCATION:https://www.aan.com/msa/Public/Events/GetEventURL/2146
SEQUENCE:0
SUMMARY:AAN: How to Analyze Spells by Video-EEG
UID:ab2220aa-525b-48a6-9f91-b9f6d2c4e27c
END:VEVENT
END:VCALENDAR
