BEGIN:VCALENDAR
PRODID:-//github.com/rianjs/ical.net//NONSGML ical.net 4.0//EN
VERSION:2.0
BEGIN:VEVENT
DESCRIPTION:2011 Annual Meeting by the American Academy of Neurology\n\nTi
 tle: Advanced Palliative Care and Symptom Management of ALS\, Alzheimer's
  Disease\, Parkinson's Disease\, and Brain Tumors\n\nAccess URL: https://
 www.aan.com/msa/Public/Events/GetEventURL/2149\n\nLearn More About This E
 vent: https://www.aan.com/msa/Public/Events/Details/2149
DTEND:20110410T140000
DTSTAMP:20260424T053925Z
DTSTART:20110410T110000
LOCATION:https://www.aan.com/msa/Public/Events/GetEventURL/2149
SEQUENCE:0
SUMMARY:AAN: Advanced Palliative Care and Symptom Management of ALS\, Alzh
 eimer's Disease\, Parkinson's Disease\, and Brain Tumors
UID:0db4df1d-48bf-4cca-a886-e2ff32f95e7c
END:VEVENT
END:VCALENDAR
