BEGIN:VCALENDAR
PRODID:-//github.com/rianjs/ical.net//NONSGML ical.net 4.0//EN
VERSION:2.0
BEGIN:VEVENT
DESCRIPTION:2011 Annual Meeting by the American Academy of Neurology\n\nTi
 tle: Clinical E-Pearls\n\nAccess URL: https://www.aan.com/msa/Public/Even
 ts/GetEventURL/2152\n\nLearn More About This Event: https://www.aan.com/m
 sa/Public/Events/Details/2152
DTEND:20110411T093000
DTSTAMP:20260424T053926Z
DTSTART:20110411T063000
LOCATION:https://www.aan.com/msa/Public/Events/GetEventURL/2152
SEQUENCE:0
SUMMARY:AAN: Clinical E-Pearls
UID:8ccae9e7-ff80-4339-bf2a-c7e1515cecd2
END:VEVENT
END:VCALENDAR
