BEGIN:VCALENDAR
PRODID:-//github.com/rianjs/ical.net//NONSGML ical.net 4.0//EN
VERSION:2.0
BEGIN:VEVENT
DESCRIPTION:2011 Annual Meeting by the American Academy of Neurology\n\nTi
 tle: Large Artery Disease\n\nAccess URL: https://www.aan.com/msa/Public/E
 vents/GetEventURL/2153\n\nLearn More About This Event: https://www.aan.co
 m/msa/Public/Events/Details/2153
DTEND:20120423T130000
DTSTAMP:20260424T054000Z
DTSTART:20120423T090000
LOCATION:https://www.aan.com/msa/Public/Events/GetEventURL/2153
SEQUENCE:0
SUMMARY:AAN: Large Artery Disease
UID:12dfebcc-020e-4f76-93ed-693ebb2324a2
END:VEVENT
END:VCALENDAR
