BEGIN:VCALENDAR
PRODID:-//github.com/rianjs/ical.net//NONSGML ical.net 4.0//EN
VERSION:2.0
BEGIN:VEVENT
DESCRIPTION:2011 Annual Meeting by the American Academy of Neurology\n\nTi
 tle: Neuroradiology: Imaging in Parkinson's Disease and Parkinsonian Synd
 romes: Are We There Yet?\n\nAccess URL: https://www.aan.com/msa/Public/Ev
 ents/GetEventURL/2154\n\nLearn More About This Event: https://www.aan.com
 /msa/Public/Events/Details/2154
DTEND:20120423T130000
DTSTAMP:20260424T053956Z
DTSTART:20120423T090000
LOCATION:https://www.aan.com/msa/Public/Events/GetEventURL/2154
SEQUENCE:0
SUMMARY:AAN: Neuroradiology: Imaging in Parkinson's Disease and Parkinsoni
 an Syndromes: Are We There Yet?
UID:f62faff0-80c0-4300-8f20-cfd12185a791
END:VEVENT
END:VCALENDAR
