BEGIN:VCALENDAR
PRODID:-//github.com/rianjs/ical.net//NONSGML ical.net 4.0//EN
VERSION:2.0
BEGIN:VEVENT
DESCRIPTION:2011 Annual Meeting by the American Academy of Neurology\n\nTi
 tle: Diagnosis and Management of Leukodystrophies\n\nAccess URL: https://
 www.aan.com/msa/Public/Events/GetEventURL/2155\n\nLearn More About This E
 vent: https://www.aan.com/msa/Public/Events/Details/2155
DTEND:20110411T140000
DTSTAMP:20260424T053859Z
DTSTART:20110411T110000
LOCATION:https://www.aan.com/msa/Public/Events/GetEventURL/2155
SEQUENCE:0
SUMMARY:AAN: Diagnosis and Management of Leukodystrophies
UID:98d090fa-5d03-4e5d-992a-bcddf9b6c07b
END:VEVENT
END:VCALENDAR
