BEGIN:VCALENDAR
PRODID:-//github.com/rianjs/ical.net//NONSGML ical.net 4.0//EN
VERSION:2.0
BEGIN:VEVENT
DESCRIPTION:2011 Annual Meeting by the American Academy of Neurology\n\nTi
 tle: Treatment of Movement Disorders\n\nAccess URL: https://www.aan.com/m
 sa/Public/Events/GetEventURL/2169\n\nLearn More About This Event: https:/
 /www.aan.com/msa/Public/Events/Details/2169
DTEND:20110414T170000
DTSTAMP:20260424T054136Z
DTSTART:20110414T130000
LOCATION:https://www.aan.com/msa/Public/Events/GetEventURL/2169
SEQUENCE:0
SUMMARY:AAN: Treatment of Movement Disorders
UID:346927f5-0176-41d0-b73c-41029e329be8
END:VEVENT
END:VCALENDAR
