BEGIN:VCALENDAR
PRODID:-//github.com/rianjs/ical.net//NONSGML ical.net 4.0//EN
VERSION:2.0
BEGIN:VEVENT
DESCRIPTION:2011 Annual Meeting by the American Academy of Neurology\n\nTi
 tle: Cognitive Aging: Bench to Bedside\n\nAccess URL: https://www.aan.com
 /msa/Public/Events/GetEventURL/2170\n\nLearn More About This Event: https
 ://www.aan.com/msa/Public/Events/Details/2170
DTEND:20110410T120000
DTSTAMP:20260424T053922Z
DTSTART:20110410T080000
LOCATION:https://www.aan.com/msa/Public/Events/GetEventURL/2170
SEQUENCE:0
SUMMARY:AAN: Cognitive Aging: Bench to Bedside
UID:9e8d119c-baa5-40f8-9116-39180ecd9f66
END:VEVENT
END:VCALENDAR
