BEGIN:VCALENDAR
PRODID:-//github.com/rianjs/ical.net//NONSGML ical.net 4.0//EN
VERSION:2.0
BEGIN:VEVENT
DESCRIPTION:2011 Annual Meeting by the American Academy of Neurology\n\nTi
 tle: Stem Cell and Genetic Therapies of Motor Neuron Disease\n\nAccess UR
 L: https://www.aan.com/msa/Public/Events/GetEventURL/2172\n\nLearn More A
 bout This Event: https://www.aan.com/msa/Public/Events/Details/2172
DTEND:20110415T170000
DTSTAMP:20260424T053925Z
DTSTART:20110415T131500
LOCATION:https://www.aan.com/msa/Public/Events/GetEventURL/2172
SEQUENCE:0
SUMMARY:AAN: Stem Cell and Genetic Therapies of Motor Neuron Disease
UID:b20a32dc-20d6-4970-9fab-435ae33ec022
END:VEVENT
END:VCALENDAR
