BEGIN:VCALENDAR
PRODID:-//github.com/rianjs/ical.net//NONSGML ical.net 4.0//EN
VERSION:2.0
BEGIN:VEVENT
DESCRIPTION:2011 Annual Meeting by the American Academy of Neurology\n\nTi
 tle: CNS Trauma and Rehabilitation\n\nAccess URL: https://www.aan.com/msa
 /Public/Events/GetEventURL/2176\n\nLearn More About This Event: https://w
 ww.aan.com/msa/Public/Events/Details/2176
DTEND:20110412T170000
DTSTAMP:20260424T053927Z
DTSTART:20110412T130000
LOCATION:https://www.aan.com/msa/Public/Events/GetEventURL/2176
SEQUENCE:0
SUMMARY:AAN: CNS Trauma and Rehabilitation
UID:57077380-cdd9-4af9-9cae-3380767f9aaa
END:VEVENT
END:VCALENDAR
