BEGIN:VCALENDAR
PRODID:-//github.com/rianjs/ical.net//NONSGML ical.net 4.0//EN
VERSION:2.0
BEGIN:VEVENT
DESCRIPTION:2011 Annual Meeting by the American Academy of Neurology\n\nTi
 tle: Cerebellar Diseases\n\nAccess URL: https://www.aan.com/msa/Public/Ev
 ents/GetEventURL/2178\n\nLearn More About This Event: https://www.aan.com
 /msa/Public/Events/Details/2178
DTEND:20110413T170000
DTSTAMP:20260424T053923Z
DTSTART:20110413T130000
LOCATION:https://www.aan.com/msa/Public/Events/GetEventURL/2178
SEQUENCE:0
SUMMARY:AAN: Cerebellar Diseases
UID:93a6ceae-5aae-4943-9a97-7a4b65a1edc1
END:VEVENT
END:VCALENDAR
