BEGIN:VCALENDAR
PRODID:-//github.com/rianjs/ical.net//NONSGML ical.net 4.0//EN
VERSION:2.0
BEGIN:VEVENT
DESCRIPTION:2011 Annual Meeting by the American Academy of Neurology\n\nTi
 tle: Cerebrovascular Disease: Epidemiology\n\nAccess URL: https://www.aan
 .com/msa/Public/Events/GetEventURL/2182\n\nLearn More About This Event: h
 ttps://www.aan.com/msa/Public/Events/Details/2182
DTEND:20110412T144500
DTSTAMP:20260424T053924Z
DTSTART:20110412T130000
LOCATION:https://www.aan.com/msa/Public/Events/GetEventURL/2182
SEQUENCE:0
SUMMARY:AAN: Cerebrovascular Disease: Epidemiology
UID:cb5eead2-089b-41f8-97cf-8b966de963f1
END:VEVENT
END:VCALENDAR
