BEGIN:VCALENDAR
PRODID:-//github.com/rianjs/ical.net//NONSGML ical.net 4.0//EN
VERSION:2.0
BEGIN:VEVENT
DESCRIPTION:2011 Annual Meeting by the American Academy of Neurology\n\nTi
 tle: Movement Disorders: Non-Motor Symptoms of Parkinsons Disease\n\nAcce
 ss URL: https://www.aan.com/msa/Public/Events/GetEventURL/2183\n\nLearn M
 ore About This Event: https://www.aan.com/msa/Public/Events/Details/2183
DTEND:20110412T144500
DTSTAMP:20260424T053925Z
DTSTART:20110412T130000
LOCATION:https://www.aan.com/msa/Public/Events/GetEventURL/2183
SEQUENCE:0
SUMMARY:AAN: Movement Disorders: Non-Motor Symptoms of Parkinsons Disease
UID:f117ec11-ab18-4117-87d7-409511a5c1e8
END:VEVENT
END:VCALENDAR
