BEGIN:VCALENDAR
PRODID:-//github.com/rianjs/ical.net//NONSGML ical.net 4.0//EN
VERSION:2.0
BEGIN:VEVENT
DESCRIPTION:2011 Annual Meeting by the American Academy of Neurology\n\nTi
 tle: Epilepsy: Clinical Epilepsy\n\nAccess URL: https://www.aan.com/msa/P
 ublic/Events/GetEventURL/2185\n\nLearn More About This Event: https://www
 .aan.com/msa/Public/Events/Details/2185
DTEND:20110412T144500
DTSTAMP:20260424T053924Z
DTSTART:20110412T130000
LOCATION:https://www.aan.com/msa/Public/Events/GetEventURL/2185
SEQUENCE:0
SUMMARY:AAN: Epilepsy: Clinical Epilepsy
UID:1e12372e-87a4-4235-a82c-5093756ab16a
END:VEVENT
END:VCALENDAR
