BEGIN:VCALENDAR
PRODID:-//github.com/rianjs/ical.net//NONSGML ical.net 4.0//EN
VERSION:2.0
BEGIN:VEVENT
DESCRIPTION:2011 Annual Meeting by the American Academy of Neurology\n\nTi
 tle: Peripheral Nerve: Clinical Advances\n\nAccess URL: https://www.aan.c
 om/msa/Public/Events/GetEventURL/2188\n\nLearn More About This Event: htt
 ps://www.aan.com/msa/Public/Events/Details/2188
DTEND:20110412T144500
DTSTAMP:20260424T053959Z
DTSTART:20110412T130000
LOCATION:https://www.aan.com/msa/Public/Events/GetEventURL/2188
SEQUENCE:0
SUMMARY:AAN: Peripheral Nerve: Clinical Advances
UID:49a438bf-dd09-45ec-b5eb-9121b30e7d5b
END:VEVENT
END:VCALENDAR
