BEGIN:VCALENDAR
PRODID:-//github.com/rianjs/ical.net//NONSGML ical.net 4.0//EN
VERSION:2.0
BEGIN:VEVENT
DESCRIPTION:2011 Annual Meeting by the American Academy of Neurology\n\nTi
 tle: Neurologic Manifestations of Systemic Disease\n\nAccess URL: https:/
 /www.aan.com/msa/Public/Events/GetEventURL/2189\n\nLearn More About This 
 Event: https://www.aan.com/msa/Public/Events/Details/2189
DTEND:20110412T144500
DTSTAMP:20260424T053957Z
DTSTART:20110412T130000
LOCATION:https://www.aan.com/msa/Public/Events/GetEventURL/2189
SEQUENCE:0
SUMMARY:AAN: Neurologic Manifestations of Systemic Disease
UID:250854d0-b320-4d06-bfae-6b9ee2d0a122
END:VEVENT
END:VCALENDAR
