BEGIN:VCALENDAR
PRODID:-//github.com/rianjs/ical.net//NONSGML ical.net 4.0//EN
VERSION:2.0
BEGIN:VEVENT
DESCRIPTION:2011 Annual Meeting by the American Academy of Neurology\n\nTi
 tle: Multiple Sclerosis: Imaging and Cognition\n\nAccess URL: https://www
 .aan.com/msa/Public/Events/GetEventURL/2191\n\nLearn More About This Even
 t: https://www.aan.com/msa/Public/Events/Details/2191
DTEND:20110412T163000
DTSTAMP:20260424T053901Z
DTSTART:20110412T150000
LOCATION:https://www.aan.com/msa/Public/Events/GetEventURL/2191
SEQUENCE:0
SUMMARY:AAN: Multiple Sclerosis: Imaging and Cognition
UID:4d19bb5f-3ccf-4563-9de7-139e52efabf1
END:VEVENT
END:VCALENDAR
