BEGIN:VCALENDAR
PRODID:-//github.com/rianjs/ical.net//NONSGML ical.net 4.0//EN
VERSION:2.0
BEGIN:VEVENT
DESCRIPTION:2011 Annual Meeting by the American Academy of Neurology\n\nTi
 tle: Cerebrovascular Disease: Stroke Prevention\n\nAccess URL: https://ww
 w.aan.com/msa/Public/Events/GetEventURL/2192\n\nLearn More About This Eve
 nt: https://www.aan.com/msa/Public/Events/Details/2192
DTEND:20110412T163000
DTSTAMP:20260424T053925Z
DTSTART:20110412T150000
LOCATION:https://www.aan.com/msa/Public/Events/GetEventURL/2192
SEQUENCE:0
SUMMARY:AAN: Cerebrovascular Disease: Stroke Prevention
UID:0870cafc-a5f0-4c6b-81b7-5b906443ec73
END:VEVENT
END:VCALENDAR
