BEGIN:VCALENDAR
PRODID:-//github.com/rianjs/ical.net//NONSGML ical.net 4.0//EN
VERSION:2.0
BEGIN:VEVENT
DESCRIPTION:2011 Annual Meeting by the American Academy of Neurology\n\nTi
 tle: Headache: Clinical Presentation and Therapeutics\n\nAccess URL: http
 s://www.aan.com/msa/Public/Events/GetEventURL/2196\n\nLearn More About Th
 is Event: https://www.aan.com/msa/Public/Events/Details/2196
DTEND:20110412T163000
DTSTAMP:20260424T053900Z
DTSTART:20110412T150000
LOCATION:https://www.aan.com/msa/Public/Events/GetEventURL/2196
SEQUENCE:0
SUMMARY:AAN: Headache: Clinical Presentation and Therapeutics
UID:9f4235a2-9f84-43bb-b2bb-9035c9669a74
END:VEVENT
END:VCALENDAR
