BEGIN:VCALENDAR
PRODID:-//github.com/rianjs/ical.net//NONSGML ical.net 4.0//EN
VERSION:2.0
BEGIN:VEVENT
DESCRIPTION:2011 Annual Meeting by the American Academy of Neurology\n\nTi
 tle: Clinical Neurophysiology: Clinical Neurophysiology Advances\n\nAcces
 s URL: https://www.aan.com/msa/Public/Events/GetEventURL/2199\n\nLearn Mo
 re About This Event: https://www.aan.com/msa/Public/Events/Details/2199
DTEND:20110412T163000
DTSTAMP:20260424T053957Z
DTSTART:20110412T150000
LOCATION:https://www.aan.com/msa/Public/Events/GetEventURL/2199
SEQUENCE:0
SUMMARY:AAN: Clinical Neurophysiology: Clinical Neurophysiology Advances
UID:8b1a2041-1cb2-4bea-a46f-99a85f88981f
END:VEVENT
END:VCALENDAR
