BEGIN:VCALENDAR
PRODID:-//github.com/rianjs/ical.net//NONSGML ical.net 4.0//EN
VERSION:2.0
BEGIN:VEVENT
DESCRIPTION:2011 Annual Meeting by the American Academy of Neurology\n\nTi
 tle: Multiple Sclerosis: Reproductive Issues\n\nAccess URL: https://www.a
 an.com/msa/Public/Events/GetEventURL/2200\n\nLearn More About This Event:
  https://www.aan.com/msa/Public/Events/Details/2200
DTEND:20110412T163000
DTSTAMP:20260424T053956Z
DTSTART:20110412T150000
LOCATION:https://www.aan.com/msa/Public/Events/GetEventURL/2200
SEQUENCE:0
SUMMARY:AAN: Multiple Sclerosis: Reproductive Issues
UID:574184c3-fa14-4a84-9d1a-59da4ba6e747
END:VEVENT
END:VCALENDAR
