BEGIN:VCALENDAR
PRODID:-//github.com/rianjs/ical.net//NONSGML ical.net 4.0//EN
VERSION:2.0
BEGIN:VEVENT
DESCRIPTION:2011 Annual Meeting by the American Academy of Neurology\n\nTi
 tle: Cerebrovascular Disease: Hemorrhagic Stroke\n\nAccess URL: https://w
 ww.aan.com/msa/Public/Events/GetEventURL/2202\n\nLearn More About This Ev
 ent: https://www.aan.com/msa/Public/Events/Details/2202
DTEND:20110413T144500
DTSTAMP:20260424T053901Z
DTSTART:20110413T130000
LOCATION:https://www.aan.com/msa/Public/Events/GetEventURL/2202
SEQUENCE:0
SUMMARY:AAN: Cerebrovascular Disease: Hemorrhagic Stroke
UID:b26ad6de-0280-489d-b1c5-c4bc99a33958
END:VEVENT
END:VCALENDAR
