BEGIN:VCALENDAR
PRODID:-//github.com/rianjs/ical.net//NONSGML ical.net 4.0//EN
VERSION:2.0
BEGIN:VTIMEZONE
TZID:Pacific Standard Time
X-LIC-LOCATION:America/Los_Angeles
BEGIN:STANDARD
DTSTART:20241103T020000
RRULE:FREQ=YEARLY;BYDAY=1SU;BYMONTH=11
TZNAME:PST
TZOFFSETFROM:-0700
TZOFFSETTO:-0800
END:STANDARD
BEGIN:DAYLIGHT
DTSTART:20250309T020000
RRULE:FREQ=YEARLY;BYDAY=2SU;BYMONTH=3
TZNAME:PDT
TZOFFSETFROM:-0800
TZOFFSETTO:-0700
END:DAYLIGHT
END:VTIMEZONE
BEGIN:VEVENT
DESCRIPTION:2025 Annual Meeting by the American Academy of Neurology\n\nTi
 tle: Neuropace Meeting \n\nDescription: Meeting with Investigator\n\nLear
 n More About This Event: https://www.aan.com/msa/Public/Events/Details/22
 084
DTEND;TZID=Pacific Standard Time:20250407T220000
DTSTAMP:20260424T021643Z
DTSTART;TZID=Pacific Standard Time:20250407T120000
LOCATION:https://www.aan.com/msa/Public/Events/GetEventURL/22084
SEQUENCE:0
SUMMARY:AAN: Neuropace Meeting
UID:ba42d7d5-69ab-4986-a63d-81f13ea59955
END:VEVENT
END:VCALENDAR
