BEGIN:VCALENDAR
PRODID:-//github.com/rianjs/ical.net//NONSGML ical.net 4.0//EN
VERSION:2.0
BEGIN:VTIMEZONE
TZID:Pacific Standard Time
X-LIC-LOCATION:America/Los_Angeles
BEGIN:STANDARD
DTSTART:20241103T020000
RRULE:FREQ=YEARLY;BYDAY=1SU;BYMONTH=11
TZNAME:PST
TZOFFSETFROM:-0700
TZOFFSETTO:-0800
END:STANDARD
BEGIN:DAYLIGHT
DTSTART:20250309T020000
RRULE:FREQ=YEARLY;BYDAY=2SU;BYMONTH=3
TZNAME:PDT
TZOFFSETFROM:-0800
TZOFFSETTO:-0700
END:DAYLIGHT
END:VTIMEZONE
BEGIN:VEVENT
DESCRIPTION:2025 Fall Conference by the American Academy of Neurology\n\nT
 itle: Lunch\n\nLearn More About This Event: https://www.aan.com/msa/Publi
 c/Events/Details/22094
DTEND;TZID=Pacific Standard Time:20251106T130000
DTSTAMP:20260424T081146Z
DTSTART;TZID=Pacific Standard Time:20251106T120000
LOCATION:https://www.aan.com/msa/Public/Events/GetEventURL/22094
SEQUENCE:0
SUMMARY:AAN: Lunch
UID:d165a462-22b2-46cf-98df-717dd1a1b279
END:VEVENT
END:VCALENDAR
