BEGIN:VCALENDAR
PRODID:-//github.com/rianjs/ical.net//NONSGML ical.net 4.0//EN
VERSION:2.0
BEGIN:VTIMEZONE
TZID:Pacific Standard Time
X-LIC-LOCATION:America/Los_Angeles
BEGIN:STANDARD
DTSTART:20241103T020000
RRULE:FREQ=YEARLY;BYDAY=1SU;BYMONTH=11
TZNAME:PST
TZOFFSETFROM:-0700
TZOFFSETTO:-0800
END:STANDARD
BEGIN:DAYLIGHT
DTSTART:20250309T020000
RRULE:FREQ=YEARLY;BYDAY=2SU;BYMONTH=3
TZNAME:PDT
TZOFFSETFROM:-0800
TZOFFSETTO:-0700
END:DAYLIGHT
END:VTIMEZONE
BEGIN:VEVENT
DESCRIPTION:2025 Fall Conference by the American Academy of Neurology\n\nT
 itle: Neurology Update 2: Neuro-ophthalmology\; NeuroICU/Emergency Neurol
 ogy\n\nAccess URL: https://www.aan.com/msa/Public/Events/GetEventURL/2210
 9\n\nLearn More About This Event: https://www.aan.com/msa/Public/Events/D
 etails/22109
DTEND;TZID=Pacific Standard Time:20251107T143000
DTSTAMP:20260424T122237Z
DTSTART;TZID=Pacific Standard Time:20251107T130000
LOCATION:https://www.aan.com/msa/Public/Events/GetEventURL/22109
SEQUENCE:0
SUMMARY:AAN: Neurology Update 2: Neuro-ophthalmology\; NeuroICU/Emergency 
 Neurology
UID:e0bb4268-f743-4876-aa33-4e6c616ff3c8
END:VEVENT
END:VCALENDAR
