BEGIN:VCALENDAR
PRODID:-//github.com/rianjs/ical.net//NONSGML ical.net 4.0//EN
VERSION:2.0
BEGIN:VTIMEZONE
TZID:Pacific Standard Time
X-LIC-LOCATION:America/Los_Angeles
BEGIN:STANDARD
DTSTART:20241103T020000
RRULE:FREQ=YEARLY;BYDAY=1SU;BYMONTH=11
TZNAME:PST
TZOFFSETFROM:-0700
TZOFFSETTO:-0800
END:STANDARD
BEGIN:DAYLIGHT
DTSTART:20250309T020000
RRULE:FREQ=YEARLY;BYDAY=2SU;BYMONTH=3
TZNAME:PDT
TZOFFSETFROM:-0800
TZOFFSETTO:-0700
END:DAYLIGHT
END:VTIMEZONE
BEGIN:VEVENT
DESCRIPTION:2025 Fall Conference by the American Academy of Neurology\n\nT
 itle: Cognitive\, Behavioral\, and Disease-modifying Therapeutics in Deme
 ntia\n\nAccess URL: https://www.aan.com/msa/Public/Events/GetEventURL/221
 24\n\nLearn More About This Event: https://www.aan.com/msa/Public/Events/
 Details/22124
DTEND;TZID=Pacific Standard Time:20251109T090000
DTSTAMP:20260424T082553Z
DTSTART;TZID=Pacific Standard Time:20251109T073000
LOCATION:https://www.aan.com/msa/Public/Events/GetEventURL/22124
SEQUENCE:0
SUMMARY:AAN: Cognitive\, Behavioral\, and Disease-modifying Therapeutics i
 n Dementia
UID:2a561c76-7c34-45fe-801c-797b8d418e8e
END:VEVENT
END:VCALENDAR
