BEGIN:VCALENDAR
PRODID:-//github.com/rianjs/ical.net//NONSGML ical.net 4.0//EN
VERSION:2.0
BEGIN:VTIMEZONE
TZID:Pacific Standard Time
X-LIC-LOCATION:America/Los_Angeles
BEGIN:STANDARD
DTSTART:20241103T020000
RRULE:FREQ=YEARLY;BYDAY=1SU;BYMONTH=11
TZNAME:PST
TZOFFSETFROM:-0700
TZOFFSETTO:-0800
END:STANDARD
BEGIN:DAYLIGHT
DTSTART:20250309T020000
RRULE:FREQ=YEARLY;BYDAY=2SU;BYMONTH=3
TZNAME:PDT
TZOFFSETFROM:-0800
TZOFFSETTO:-0700
END:DAYLIGHT
END:VTIMEZONE
BEGIN:VEVENT
DESCRIPTION:2025 Fall Conference by the American Academy of Neurology\n\nT
 itle: Practice Management 1: Smart Coding\, Smarter Reimbursement: What's
  New for Neurology in 2025\n\nAccess URL: https://www.aan.com/msa/Public/
 Events/GetEventURL/22125\n\nLearn More About This Event: https://www.aan.
 com/msa/Public/Events/Details/22125
DTEND;TZID=Pacific Standard Time:20251107T110000
DTSTAMP:20260424T082522Z
DTSTART;TZID=Pacific Standard Time:20251107T093000
LOCATION:https://www.aan.com/msa/Public/Events/GetEventURL/22125
SEQUENCE:0
SUMMARY:AAN: Practice Management 1: Smart Coding\, Smarter Reimbursement: 
 What's New for Neurology in 2025
UID:fe869452-bcba-4cd2-aff0-36f0cbb6b212
END:VEVENT
END:VCALENDAR
