BEGIN:VCALENDAR
PRODID:-//github.com/rianjs/ical.net//NONSGML ical.net 4.0//EN
VERSION:2.0
BEGIN:VTIMEZONE
TZID:Pacific Standard Time
X-LIC-LOCATION:America/Los_Angeles
BEGIN:STANDARD
DTSTART:20241103T020000
RRULE:FREQ=YEARLY;BYDAY=1SU;BYMONTH=11
TZNAME:PST
TZOFFSETFROM:-0700
TZOFFSETTO:-0800
END:STANDARD
BEGIN:DAYLIGHT
DTSTART:20250309T020000
RRULE:FREQ=YEARLY;BYDAY=2SU;BYMONTH=3
TZNAME:PDT
TZOFFSETFROM:-0800
TZOFFSETTO:-0700
END:DAYLIGHT
END:VTIMEZONE
BEGIN:VEVENT
DESCRIPTION:2025 Fall Conference by the American Academy of Neurology\n\nT
 itle: Industry Conference Room\n\nDescription: Dr. Cascino\, Andy\, and M
 olly will need a conference room to meet with Industry Roundtable members
  during the Fall Conference. If possible\, we would like to have the conf
 erence room available from 12:00 p.m. on 11/6 to 5:00 p.m. on 11/7. We wi
 ll be meeting with up to 4-6 individuals from each company during these m
 eetings. \n\nLearn More About This Event: https://www.aan.com/msa/Public/
 Events/Details/22151
DTEND;TZID=Pacific Standard Time:20251107T170000
DTSTAMP:20260424T122213Z
DTSTART;TZID=Pacific Standard Time:20251107T090000
LOCATION:https://www.aan.com/msa/Public/Events/GetEventURL/22151
SEQUENCE:0
SUMMARY:AAN: Industry Conference Room
UID:cb4954a4-da50-4df7-9398-d8c81c2b4119
END:VEVENT
END:VCALENDAR
