BEGIN:VCALENDAR
PRODID:-//github.com/rianjs/ical.net//NONSGML ical.net 4.0//EN
VERSION:2.0
BEGIN:VTIMEZONE
TZID:Pacific Standard Time
X-LIC-LOCATION:America/Los_Angeles
BEGIN:STANDARD
DTSTART:20241103T020000
RRULE:FREQ=YEARLY;BYDAY=1SU;BYMONTH=11
TZNAME:PST
TZOFFSETFROM:-0700
TZOFFSETTO:-0800
END:STANDARD
BEGIN:DAYLIGHT
DTSTART:20250309T020000
RRULE:FREQ=YEARLY;BYDAY=2SU;BYMONTH=3
TZNAME:PDT
TZOFFSETFROM:-0800
TZOFFSETTO:-0700
END:DAYLIGHT
END:VTIMEZONE
BEGIN:VEVENT
DESCRIPTION:2025 Fall Conference by the American Academy of Neurology\n\nT
 itle: Leadership Meal Room Day 1\n\nDescription: Meal room for Leadership
  programming.\n\nLearn More About This Event: https://www.aan.com/msa/Pub
 lic/Events/Details/22156
DTEND;TZID=Pacific Standard Time:20251105T173000
DTSTAMP:20260423T213754Z
DTSTART;TZID=Pacific Standard Time:20251105T070000
LOCATION:https://www.aan.com/msa/Public/Events/GetEventURL/22156
SEQUENCE:0
SUMMARY:AAN: Leadership Meal Room Day 1
UID:2acbfd3c-5316-4e79-bf6c-94c2ddc398c6
END:VEVENT
END:VCALENDAR
