BEGIN:VCALENDAR
PRODID:-//github.com/rianjs/ical.net//NONSGML ical.net 4.0//EN
VERSION:2.0
BEGIN:VEVENT
DESCRIPTION:2011 Annual Meeting by the American Academy of Neurology\n\nTi
 tle: Behavioral Neurology: Anatomic Basis of Language Disorders\n\nAccess
  URL: https://www.aan.com/msa/Public/Events/GetEventURL/2217\n\nLearn Mor
 e About This Event: https://www.aan.com/msa/Public/Events/Details/2217
DTEND:20110413T163000
DTSTAMP:20260424T054038Z
DTSTART:20110413T150000
LOCATION:https://www.aan.com/msa/Public/Events/GetEventURL/2217
SEQUENCE:0
SUMMARY:AAN: Behavioral Neurology: Anatomic Basis of Language Disorders
UID:7d8e8732-f96d-4ad1-8114-a5e1b4a1b487
END:VEVENT
END:VCALENDAR
