BEGIN:VCALENDAR
PRODID:-//github.com/rianjs/ical.net//NONSGML ical.net 4.0//EN
VERSION:2.0
BEGIN:VTIMEZONE
TZID:Pacific Standard Time
X-LIC-LOCATION:America/Los_Angeles
BEGIN:STANDARD
DTSTART:20241103T020000
RRULE:FREQ=YEARLY;BYDAY=1SU;BYMONTH=11
TZNAME:PST
TZOFFSETFROM:-0700
TZOFFSETTO:-0800
END:STANDARD
BEGIN:DAYLIGHT
DTSTART:20250309T020000
RRULE:FREQ=YEARLY;BYDAY=2SU;BYMONTH=3
TZNAME:PDT
TZOFFSETFROM:-0800
TZOFFSETTO:-0700
END:DAYLIGHT
END:VTIMEZONE
BEGIN:VEVENT
DESCRIPTION:2025 Fall Conference by the American Academy of Neurology\n\nT
 itle: APP Conference Reception\n\nLearn More About This Event: https://ww
 w.aan.com/msa/Public/Events/Details/22182
DTEND;TZID=Pacific Standard Time:20251106T180000
DTSTAMP:20260423T213755Z
DTSTART;TZID=Pacific Standard Time:20251106T170000
LOCATION:https://www.aan.com/msa/Public/Events/GetEventURL/22182
SEQUENCE:0
SUMMARY:AAN: APP Conference Reception
UID:efc9459b-3342-4c9b-a03c-1c5c38e75771
END:VEVENT
END:VCALENDAR
