BEGIN:VCALENDAR
PRODID:-//github.com/rianjs/ical.net//NONSGML ical.net 4.0//EN
VERSION:2.0
BEGIN:VEVENT
DESCRIPTION:2011 Annual Meeting by the American Academy of Neurology\n\nTi
 tle: Neuro-ophthalmology\n\nAccess URL: https://www.aan.com/msa/Public/Ev
 ents/GetEventURL/2227\n\nLearn More About This Event: https://www.aan.com
 /msa/Public/Events/Details/2227
DTEND:20110414T144500
DTSTAMP:20260424T054210Z
DTSTART:20110414T130000
LOCATION:https://www.aan.com/msa/Public/Events/GetEventURL/2227
SEQUENCE:0
SUMMARY:AAN: Neuro-ophthalmology
UID:e1aad5ce-5dfd-4a49-a88d-dd5afdde2046
END:VEVENT
END:VCALENDAR
