BEGIN:VCALENDAR
PRODID:-//github.com/rianjs/ical.net//NONSGML ical.net 4.0//EN
VERSION:2.0
BEGIN:VEVENT
DESCRIPTION:2011 Annual Meeting by the American Academy of Neurology\n\nTi
 tle: Multiple Sclerosis: Oligodendroglia and Immunology\n\nAccess URL: ht
 tps://www.aan.com/msa/Public/Events/GetEventURL/2230\n\nLearn More About 
 This Event: https://www.aan.com/msa/Public/Events/Details/2230
DTEND:20110414T144500
DTSTAMP:20260424T054039Z
DTSTART:20110414T130000
LOCATION:https://www.aan.com/msa/Public/Events/GetEventURL/2230
SEQUENCE:0
SUMMARY:AAN: Multiple Sclerosis: Oligodendroglia and Immunology
UID:1efd5b93-4800-4951-952d-58d9e801bcb6
END:VEVENT
END:VCALENDAR
