BEGIN:VCALENDAR
PRODID:-//github.com/rianjs/ical.net//NONSGML ical.net 4.0//EN
VERSION:2.0
BEGIN:VTIMEZONE
TZID:Central Standard Time
X-LIC-LOCATION:America/Chicago
BEGIN:STANDARD
DTSTART:20241103T020000
RRULE:FREQ=YEARLY;BYDAY=1SU;BYMONTH=11
TZNAME:CST
TZOFFSETFROM:-0500
TZOFFSETTO:-0600
END:STANDARD
BEGIN:DAYLIGHT
DTSTART:20250309T020000
RRULE:FREQ=YEARLY;BYDAY=2SU;BYMONTH=3
TZNAME:CDT
TZOFFSETFROM:-0600
TZOFFSETTO:-0500
END:DAYLIGHT
END:VTIMEZONE
BEGIN:VEVENT
DESCRIPTION:2026 Annual Meeting by the American Academy of Neurology\n\nTi
 tle: Non-motor Parkinson’s Disease Symptoms\n\nAccess URL: https://www.aa
 n.com/msa/Public/Events/GetEventURL/22303\n\nLearn More About This Event:
  https://www.aan.com/msa/Public/Events/Details/22303
DTEND;TZID=Central Standard Time:20260421T173000
DTSTAMP:20260424T123801Z
DTSTART;TZID=Central Standard Time:20260421T153000
LOCATION:McCormick Place West | W184d
SEQUENCE:0
SUMMARY:AAN: Non-motor Parkinson’s Disease Symptoms
UID:43db4887-b1a5-4f0b-b9af-c382f38d0a5d
END:VEVENT
END:VCALENDAR
