BEGIN:VCALENDAR
PRODID:-//github.com/rianjs/ical.net//NONSGML ical.net 4.0//EN
VERSION:2.0
BEGIN:VEVENT
DESCRIPTION:2011 Annual Meeting by the American Academy of Neurology\n\nTi
 tle: Movement Disorders: Atypical Parkinsonisms\n\nAccess URL: https://ww
 w.aan.com/msa/Public/Events/GetEventURL/2233\n\nLearn More About This Eve
 nt: https://www.aan.com/msa/Public/Events/Details/2233
DTEND:20110414T163000
DTSTAMP:20260424T054033Z
DTSTART:20110414T150000
LOCATION:https://www.aan.com/msa/Public/Events/GetEventURL/2233
SEQUENCE:0
SUMMARY:AAN: Movement Disorders: Atypical Parkinsonisms
UID:8b3ee8e9-4abf-453c-b787-3ec856d30a43
END:VEVENT
END:VCALENDAR
